BEGIN:VCALENDAR
VERSION:2.0
PRODID:-//Rutgers Agrivoltaics Program - ECPv6.15.17.1//NONSGML v1.0//EN
CALSCALE:GREGORIAN
METHOD:PUBLISH
X-WR-CALNAME:Rutgers Agrivoltaics Program
X-ORIGINAL-URL:https://agrivoltaics.rutgers.edu
X-WR-CALDESC:Events for Rutgers Agrivoltaics Program
REFRESH-INTERVAL;VALUE=DURATION:PT1H
X-Robots-Tag:noindex
X-PUBLISHED-TTL:PT1H
BEGIN:VTIMEZONE
TZID:America/New_York
BEGIN:DAYLIGHT
TZOFFSETFROM:-0500
TZOFFSETTO:-0400
TZNAME:EDT
DTSTART:20240310T070000
END:DAYLIGHT
BEGIN:STANDARD
TZOFFSETFROM:-0400
TZOFFSETTO:-0500
TZNAME:EST
DTSTART:20241103T060000
END:STANDARD
BEGIN:DAYLIGHT
TZOFFSETFROM:-0500
TZOFFSETTO:-0400
TZNAME:EDT
DTSTART:20250309T070000
END:DAYLIGHT
BEGIN:STANDARD
TZOFFSETFROM:-0400
TZOFFSETTO:-0500
TZNAME:EST
DTSTART:20251102T060000
END:STANDARD
BEGIN:DAYLIGHT
TZOFFSETFROM:-0500
TZOFFSETTO:-0400
TZNAME:EDT
DTSTART:20260308T070000
END:DAYLIGHT
BEGIN:STANDARD
TZOFFSETFROM:-0400
TZOFFSETTO:-0500
TZNAME:EST
DTSTART:20261101T060000
END:STANDARD
BEGIN:DAYLIGHT
TZOFFSETFROM:-0500
TZOFFSETTO:-0400
TZNAME:EDT
DTSTART:20270314T070000
END:DAYLIGHT
BEGIN:STANDARD
TZOFFSETFROM:-0400
TZOFFSETTO:-0500
TZNAME:EST
DTSTART:20271107T060000
END:STANDARD
END:VTIMEZONE
BEGIN:VEVENT
DTSTART;TZID=America/New_York:20250813T100000
DTEND;TZID=America/New_York:20250813T143000
DTSTAMP:20260419T222757
CREATED:20250708T001604Z
LAST-MODIFIED:20250708T001604Z
UID:1938-1755079200-1755095400@agrivoltaics.rutgers.edu
SUMMARY:Rutgers Agrivoltaics Tour Day (August)
DESCRIPTION:Join us for a tour of two agrivoltaics sites:\n(1) the Rutgers Agricultural Research and Extension Center (RAREC)\n(2) the Rutgers Animal Farm.\nPlease fill out the contact form or reach out to Shawn Sorrels\, RAP coordinator\, for more information. ss2628@njaes.rutgers.edu \nRAREC – See single axis tracker arrays (1 and 2 panels wide) with tomatoes\, peppers\, eggplants\, and soybeans growing between the panel rows.\n10:00 am – 11:30 am\nGoogle Maps Link to Location \n  \nAnimal Farm – See vertical bifacial arrays with forage grass growing between the panel rows. \n1:30 pm – 2:30 pm\nGoogle Maps Link to Location \n\n← Back Thank you for your response. ✨\n\n\n					\n						\n							\n							\n						\n						\n						\n						\n						\n							\n								\n									\n										\n										\n									\n									\n										\n										\n									\n								\n							\n						\n						\n							\n								\n									\n									\n										\n									\n									\n									\n								\n							\n						\n					\n				\n\n\n\nName(required)\n\n \n			\n				\n					\n						\n						\n						\n					\n				\n				\n			 \n	\n\n\nContact Email(required)\n\n \n			\n				\n					\n						\n						\n						\n					\n				\n				\n			 \n	\n\n\nOrganization(required)\n\n \n			\n				\n					\n						\n						\n						\n					\n				\n				\n			\n	\n\n\nNumber of Attendees(required)\n\n \n			\n				\n					\n						\n						\n						\n					\n				\n				\n			 \n	\n	\n\n				\n					\n				\n						Submit		\n		\n		\n	 \n\n\n 
URL:https://agrivoltaics.rutgers.edu/event/rutgers-agrivoltaics-tour-day-august/
CATEGORIES:General,Rutgers Agricultural Research and Extension Center (RAREC),Rutgers Animal Farm
END:VEVENT
BEGIN:VEVENT
DTSTART;TZID=America/New_York:20250827T130000
DTEND;TZID=America/New_York:20250827T190000
DTSTAMP:20260419T222757
CREATED:20250807T145454Z
LAST-MODIFIED:20250807T145454Z
UID:2012-1756299600-1756321200@agrivoltaics.rutgers.edu
SUMMARY:Open House and Tomato Tasting at Clifford E. & Melda C. Snyder Research & Extension Farm
DESCRIPTION:Rutgers University\, the New Jersey Agricultural Experiment Station\, and Rutgers Cooperative Extension proudly present the Snyder Research and Extension Farm Open House and Tomato Tasting. Taste more than 50 tomato varieties! \nPlease REGISTER for the event \nTake a wagon tour of the farm to learn about the research and extension programs being conducted\, including the Rutgers Agrivoltaics Program site!
URL:https://agrivoltaics.rutgers.edu/event/open-house-and-tomato-tasting-at-clifford-e-melda-c-snyder-research-extension-farm/
LOCATION:Rutgers Snyder Research and Extension Farm\, 140 Locust Grove Road\, Pittstown\, NJ\, 08867\, United States
ATTACH;FMTTYPE=image/jpeg:https://agrivoltaics.rutgers.edu/wp-content/uploads/2025/08/snyder-open-house.jpg
END:VEVENT
BEGIN:VEVENT
DTSTART;TZID=America/New_York:20250921T100000
DTEND;TZID=America/New_York:20250921T120000
DTSTAMP:20260419T222757
CREATED:20250807T143200Z
LAST-MODIFIED:20250807T143200Z
UID:1990-1758448800-1758456000@agrivoltaics.rutgers.edu
SUMMARY:Rutgers Agrivoltaics Tours for Sun Day! September 21st at RAREC and Animal Farm
DESCRIPTION:  \nSunDay is a global day of action on September 21st\, 2025\, celebrating the unstoppable rise of clean energy. We’ll come together to showcase the power of the sun and wind\, the energy sources that can power our world without pollution. \nJoin us at the Rutgers Agricultural Research and Extension Center (RAREC) or the Animal Farm for a tour of  Rutgers Agrivoltaics Program installations. \nBoth events are from 10:00 am to 12:00 pm\, please only RSVP for one (the locations are 1.5 hours apart!) \nRSVP for tour at RAREC             google map link for parking (paved lot) \nRSVP for tour at Animal Farm     google map link for parking (perimeter of site fence in the grass) \nThese are active farms\, please dress accordingly and wear shoes for field conditions.
URL:https://agrivoltaics.rutgers.edu/event/rutgers-agrivoltaics-tours-for-sun-day-september-21st-at-rarec-and-animal-farm/
ATTACH;FMTTYPE=image/png:https://agrivoltaics.rutgers.edu/wp-content/uploads/2025/08/Sun_Day-banner_larger.png
END:VEVENT
BEGIN:VEVENT
DTSTART;TZID=America/New_York:20251023T100000
DTEND;TZID=America/New_York:20251023T143000
DTSTAMP:20260419T222757
CREATED:20250929T161050Z
LAST-MODIFIED:20251001T164959Z
UID:2139-1761213600-1761229800@agrivoltaics.rutgers.edu
SUMMARY:Agrivoltaics Tour Day (October)
DESCRIPTION:Join us for a tour of two agrivoltaics sites:\n(1) The Rutgers Agricultural Research and Extension Center (RAREC) and\n(2) The Rutgers Animal Farm.\nThursday\, October 23rd \nAttend one or both tours! \nPlease fill out the contact form or reach out to Shawn Sorrels\, RAP coordinator\, for more information. ss2628@njaes.rutgers.edu \nRAREC – See single axis tracker arrays (1 and 2 panels wide) with tomatoes\, peppers\, eggplants\, and soybeans growing between the panel rows.\n10:00 am – 11:00 am\nGoogle Maps Link to Parking Location \n  \nAnimal Farm – See vertical bifacial arrays with forage grass growing between the panel rows.\n1:30 pm – 2:30 pm\nGoogle Maps Link to Parking Location \n  \nPlease dress for field conditions! \n\n← Back Thank you for your response. ✨\n\n\n					\n						\n							\n							\n						\n						\n						\n						\n						\n							\n								\n									\n										\n										\n									\n									\n										\n										\n									\n								\n							\n						\n						\n							\n								\n									\n									\n										\n									\n									\n									\n								\n							\n						\n					\n				\n\n\n\nName(required)\n\n \n			\n				\n					\n						\n						\n						\n					\n				\n				\n			 \n	\n\n\nContact Email(required)\n\n \n			\n				\n					\n						\n						\n						\n					\n				\n				\n			 \n	\n\n\nOrganization(required)\n\n \n			\n				\n					\n						\n						\n						\n					\n				\n				\n			 \n	\n\n\nNumber of Attendees(required)\n\n \n			\n				\n					\n						\n						\n						\n					\n				\n				\n			 \n	\n\n\nWhich tour(s) does your party plan to attend?(required)\n RAREC (10 am) Animal Farm (1:30 pm)\n			\n				\n					\n						\n						\n						\n					\n				\n				\n				\n	\n\n				\n					\n				\n						Submit
URL:https://agrivoltaics.rutgers.edu/event/agrivoltaics-tour-day-october/
END:VEVENT
BEGIN:VEVENT
DTSTART;TZID=America/New_York:20260318T100000
DTEND;TZID=America/New_York:20260318T143000
DTSTAMP:20260419T222757
CREATED:20260121T143609Z
LAST-MODIFIED:20260121T143609Z
UID:2248-1773828000-1773844200@agrivoltaics.rutgers.edu
SUMMARY:Agrivoltaics Tour Day (March 2026)
DESCRIPTION:Join us for a tour of two agrivoltaics sites:\n(1) The Rutgers Agricultural Research and Extension Center (RAREC) and\n(2) The Rutgers Animal Farm\n  \nWednesday\, March 18th\, 2026 \nAttend one or both tours! \nPlease fill out the contact form or reach out to Shawn Sorrels\, RAP coordinator\, for more information. ss2628@njaes.rutgers.edu \nRAREC – Single axis tracker arrays (1 and 2 panels wide) with tomatoes\, peppers\, eggplants\, and soybeans growing between the panel rows.\n10:00 am – 11:00 am\nGoogle Maps Link to Parking Location \n  \nAnimal Farm – Vertical bifacial arrays with forage grass growing between the panel rows.\n1:30 pm – 2:30 pm\nGoogle Maps Link to Parking Location \n  \nPlease dress for field conditions! \n\n← Back Thank you for your response. ✨\n\n\n					\n						\n							\n							\n						\n						\n						\n						\n						\n							\n								\n									\n										\n										\n									\n									\n										\n										\n									\n								\n							\n						\n						\n							\n								\n									\n									\n										\n									\n									\n									\n								\n							\n						\n					\n				\n\n\n\nName(required)\n\n \n			\n				\n					\n						\n						\n						\n					\n				\n				\n			 \n	\n\n\nEmail(required)\n\n \n			\n				\n					\n						\n						\n						\n					\n				\n				\n			 \n	\n\n\nOrganization(required)\n\n \n			\n				\n					\n						\n						\n						\n					\n				\n				\n			 \n	\n\n\nNumber of Attendees(required)\n\n \n			\n				\n					\n						\n						\n						\n					\n				\n				\n			 \n	\n\n\nWhich tour(s) will your party attend?(required)\n RAREC (10:00 am) Animal Farm (1:30 pm)\n			\n				\n					\n						\n						\n						\n					\n				\n				\n				\n	\n\n				\n					\n				\n						Submit		\n		\n		\n	 \n\n\n 
URL:https://agrivoltaics.rutgers.edu/event/agrivoltaics-tour-day-march-2026/
CATEGORIES:Rutgers Agricultural Research and Extension Center (RAREC),Rutgers Animal Farm
END:VEVENT
BEGIN:VEVENT
DTSTART;TZID=America/New_York:20260415T100000
DTEND;TZID=America/New_York:20260415T143000
DTSTAMP:20260419T222757
CREATED:20260311T134701Z
LAST-MODIFIED:20260417T134958Z
UID:2281-1776247200-1776263400@agrivoltaics.rutgers.edu
SUMMARY:Agrivoltaics Tour Day (April 2026)
DESCRIPTION:Join us for a tour of two agrivoltaics sites:\n(1) The Rutgers Agricultural Research and Extension Center (RAREC) and\n(2) The Rutgers Animal Farm\n  \nWednesday\, April 15th\, 2026 \nAttend one or both tours! \nPlease fill out the contact form or reach out to Shawn Sorrels\, RAP coordinator\, for more information. ss2628@njaes.rutgers.edu \nRAREC – Single axis tracker arrays (1 and 2 panels wide) with tomatoes\, peppers\, eggplants\, and soybeans growing between the panel rows.\n10:00 am – 11:00 am\nGoogle Maps Link to Parking Location \n  \nAnimal Farm – Vertical bifacial arrays with forage grass growing between the panel rows.\n1:30 pm – 2:30 pm\nGoogle Maps Link to Parking Location \n\n← Back Thank you for your response. ✨\n\n\n					\n						\n							\n							\n						\n						\n						\n						\n						\n							\n								\n									\n										\n										\n									\n									\n										\n										\n									\n								\n							\n						\n						\n							\n								\n									\n									\n										\n									\n									\n									\n								\n							\n						\n					\n				\n\n\n\nName(required)\n\n \n			\n				\n					\n						\n						\n						\n					\n				\n				\n			 \n	\n\n\nEmail(required)\n\n \n			\n				\n					\n						\n						\n						\n					\n				\n				\n			 \n	\n\n\nOrganization(required)\n\n \n			\n				\n					\n						\n						\n						\n					\n				\n				\n			 \n	\n\n\nNumber of Attendees(required)\n\n \n			\n				\n					\n						\n						\n						\n					\n				\n				\n			 \n	\n\n\nWhich tour(s) will your party attend?(required)\n RAREC (10:00 am) Animal Farm (1:30 pm)\n			\n				\n					\n						\n						\n						\n					\n				\n				\n				\n	\n\n				\n					\n				\n						Submit
URL:https://agrivoltaics.rutgers.edu/event/agrivoltaics-tour-day-april-2026/
END:VEVENT
BEGIN:VEVENT
DTSTART;TZID=America/New_York:20260520T100000
DTEND;TZID=America/New_York:20260520T143000
DTSTAMP:20260419T222757
CREATED:20260417T135253Z
LAST-MODIFIED:20260417T135730Z
UID:2314-1779271200-1779287400@agrivoltaics.rutgers.edu
SUMMARY:Agrivoltaics Tour Day (May 2026)
DESCRIPTION:Join us for a tour of two agrivoltaics sites:\n(1) The Rutgers Agricultural Research and Extension Center (RAREC) and\n(2) The Rutgers Animal Farm\n  \nWednesday\, May 20th\, 2026 \nAttend one or both tours! \nPlease fill out the contact form and click the “submit” button to register. \nReach out to Shawn Sorrels\, RAP coordinator\, for more information. ss2628@njaes.rutgers.edu \nRAREC – Single axis tracker arrays (1 and 2 panels wide) with tomatoes\, peppers\, eggplants\, and soybeans growing between the panel rows.\n10:00 am – 11:00 am\nGoogle Maps Link to Parking Location \n  \nAnimal Farm – Vertical bifacial arrays with cattle grazing between the panel rows.\n1:30 pm – 2:30 pm\nGoogle Maps Link to Parking Location \n  \nPlease dress for field conditions. \n\n← Back Thank you for your response. ✨\n\n\n					\n						\n							\n							\n						\n						\n						\n						\n						\n							\n								\n									\n										\n										\n									\n									\n										\n										\n									\n								\n							\n						\n						\n							\n								\n									\n									\n										\n									\n									\n									\n								\n							\n						\n					\n				\n\n\n\nName(required)\n\n \n			\n				\n					\n						\n						\n						\n					\n				\n				\n			 \n	\n\n\nEmail(required)\n\n \n			\n				\n					\n						\n						\n						\n					\n				\n				\n			 \n	\n\n\nOrganization(required)\n\n \n			\n				\n					\n						\n						\n						\n					\n				\n				\n			 \n	\n\n\nNumber of Attendees(required)\n\n \n			\n				\n					\n						\n						\n						\n					\n				\n				\n			 \n	\n\n\nWhich tour(s) will your party attend?(required)\n RAREC (10:00 am) Animal Farm (1:30 pm)\n			\n				\n					\n						\n						\n						\n					\n				\n				\n				\n	\n\n				\n					\n				\n						Submit
URL:https://agrivoltaics.rutgers.edu/event/agrivoltaics-tour-day-may-2026/
END:VEVENT
END:VCALENDAR